BEGIN:VCALENDAR
VERSION:2.0
PRODID:-//Espace 614 - Ecole de danse - Mouans Sartoux - ECPv5.9.1//NONSGML v1.0//EN
CALSCALE:GREGORIAN
METHOD:PUBLISH
X-WR-CALNAME:Espace 614 - Ecole de danse - Mouans Sartoux
X-ORIGINAL-URL:https://www.espace614.com
X-WR-CALDESC:évènements pour Espace 614 - Ecole de danse - Mouans Sartoux
BEGIN:VTIMEZONE
TZID:Europe/Paris
BEGIN:DAYLIGHT
TZOFFSETFROM:+0100
TZOFFSETTO:+0200
TZNAME:CEST
DTSTART:20230326T010000
END:DAYLIGHT
BEGIN:STANDARD
TZOFFSETFROM:+0200
TZOFFSETTO:+0100
TZNAME:CET
DTSTART:20231029T010000
END:STANDARD
END:VTIMEZONE
BEGIN:VEVENT
DTSTART;TZID=Europe/Paris:20231021T153000
DTEND;TZID=Europe/Paris:20231021T163000
DTSTAMP:20260425T183929
CREATED:20230926T140123Z
LAST-MODIFIED:20230926T155342Z
UID:10615-1697902200-1697905800@www.espace614.com
SUMMARY:Atelier Parents-Enfant Octobre 2023
DESCRIPTION:
URL:https://www.espace614.com/event/atelier-parents-enfant-octobre-2023/
LOCATION:Espace 614\, 50\, traverse du Puits du Plan ZI Tiragon\, Mouans-Sartoux\, 06370\, France
CATEGORIES:Events list,New events
ATTACH;FMTTYPE=image/jpeg:https://www.espace614.com/wp-content/uploads/2023/09/image_6483441-2-scaled.jpg
END:VEVENT
END:VCALENDAR